BEGIN:VCALENDAR
VERSION:2.0
PRODID:-//Sortir du Nucléaire 72 - ECPv6.2.8//NONSGML v1.0//EN
CALSCALE:GREGORIAN
METHOD:PUBLISH
X-WR-CALNAME:Sortir du Nucléaire 72
X-ORIGINAL-URL:https://www.sdn72.org
X-WR-CALDESC:évènements pour Sortir du Nucléaire 72
REFRESH-INTERVAL;VALUE=DURATION:PT1H
X-Robots-Tag:noindex
X-PUBLISHED-TTL:PT1H
BEGIN:VTIMEZONE
TZID:Europe/Paris
BEGIN:DAYLIGHT
TZOFFSETFROM:+0100
TZOFFSETTO:+0200
TZNAME:CEST
DTSTART:20190331T010000
END:DAYLIGHT
BEGIN:STANDARD
TZOFFSETFROM:+0200
TZOFFSETTO:+0100
TZNAME:CET
DTSTART:20191027T010000
END:STANDARD
END:VTIMEZONE
BEGIN:VEVENT
DTSTART;TZID=Europe/Paris:20190911T160000
DTEND;TZID=Europe/Paris:20190911T180000
DTSTAMP:20260420T101629
CREATED:20190623T080729Z
LAST-MODIFIED:20190909T162458Z
UID:10272-1568217600-1568224800@www.sdn72.org
SUMMARY:Prochaine réunion d’SdN 72 : mercredi 11 septembre 2019\, à 17 h\, au Mans
DESCRIPTION:Mercredi 11 septembre 2019 à 17 h — Le Mans (Maison des associations)\nVous êtes convié.e.s à la prochaine réunion mensuelle du groupe local Sortir du Nucléaire 72\, le mercredi 11 septembre 2019 à partir de 17 h (attention\, c’est à 17 h\, alors que nos réunions sont le plus souvent à 18 h). \nL’ordre du jour n’est communiqué qu’aux personnes qui nous ont laissé leur adresse mail lors de nos échanges ou qui nous l’ont demandé par courriel\, téléphone\, menu contact sur ce site… \nMerci de consulter et faire partager notre adresse URL : sdn72.org \nC’est aussi un moment important pour tisser des liens entre adhérents\, sympathisants et les membres du bureau. \nLa réunion se tient en général dans l’une des « bulles » du 3ème étage de la Maison des associations du Mans\, 4 rue d’Arcole\, au Mans (boîte au lettre 8\, 72 000 pour l’adresse postale\, ) à partir de 18 h en général. Attention\, depuis 2016\, la porte du hall d’entrée est fermée à partir de 19 h. Il peut être utile d’avoir un 06 pour se faire ouvrir cette porte si vous comptez arriver après cette heure. Alternative\, se renseigner sur place. \n\nIllustration : SDN 72 (J-L B).
URL:https://www.sdn72.org/event/prochaine-reunion-dsdn-72-mercredi-11-septembre-2019-a-16-h-au-mans/
END:VEVENT
END:VCALENDAR